BEGIN:VCALENDAR
VERSION:2.0
PRODID:-//Civity - ECPv6.15.20//NONSGML v1.0//EN
CALSCALE:GREGORIAN
METHOD:PUBLISH
X-ORIGINAL-URL:https://www.civity.org
X-WR-CALDESC:Events for Civity
REFRESH-INTERVAL;VALUE=DURATION:PT1H
X-Robots-Tag:noindex
X-PUBLISHED-TTL:PT1H
BEGIN:VTIMEZONE
TZID:America/Los_Angeles
BEGIN:DAYLIGHT
TZOFFSETFROM:-0800
TZOFFSETTO:-0700
TZNAME:PDT
DTSTART:20240310T100000
END:DAYLIGHT
BEGIN:STANDARD
TZOFFSETFROM:-0700
TZOFFSETTO:-0800
TZNAME:PST
DTSTART:20241103T090000
END:STANDARD
BEGIN:DAYLIGHT
TZOFFSETFROM:-0800
TZOFFSETTO:-0700
TZNAME:PDT
DTSTART:20250309T100000
END:DAYLIGHT
BEGIN:STANDARD
TZOFFSETFROM:-0700
TZOFFSETTO:-0800
TZNAME:PST
DTSTART:20251102T090000
END:STANDARD
BEGIN:DAYLIGHT
TZOFFSETFROM:-0800
TZOFFSETTO:-0700
TZNAME:PDT
DTSTART:20260308T100000
END:DAYLIGHT
BEGIN:STANDARD
TZOFFSETFROM:-0700
TZOFFSETTO:-0800
TZNAME:PST
DTSTART:20261101T090000
END:STANDARD
END:VTIMEZONE
BEGIN:VEVENT
DTSTART;TZID=America/Los_Angeles:20251205T090000
DTEND;TZID=America/Los_Angeles:20251205T120000
DTSTAMP:20260423T112547
CREATED:20250923T181236Z
LAST-MODIFIED:20251202T141749Z
UID:4802-1764925200-1764936000@www.civity.org
SUMMARY:Levels One and Two: Building Social Trust Across Difference
DESCRIPTION:Train-the-Trainer | Friday\, September 25th 9:00 AM–1:00 PM PT | 11:00 AM–3:00 PM CT | NOON–4:00 PM ET This special 4-hour workshop is designed for trainers and facilitators who want to incorporate Civity exercises or the full Civity workshop into their own offerings. Participants experience the full 3-hour Building Social Trust Across Difference workshop PLUS they … Continue reading "Train-the-Trainer: Integrating Civity Exercises Into Your Practice"
URL:https://www.civity.org/event/levels-one-and-two-building-social-trust-across-difference/
LOCATION:Zoom\, United States
CATEGORIES:Training
ATTACH;FMTTYPE=image/jpeg:https://www.civity.org/wp-content/uploads/2025/09/Civity_HandsInCircle_Long.jpg
ORGANIZER;CN="Civity":MAILTO:info@civity.org
END:VEVENT
BEGIN:VEVENT
DTSTART;TZID=America/Los_Angeles:20251202T090000
DTEND;TZID=America/Los_Angeles:20251202T130000
DTSTAMP:20260423T112547
CREATED:20250923T070251Z
LAST-MODIFIED:20251122T155549Z
UID:4805-1764666000-1764680400@www.civity.org
SUMMARY:Train-the-Trainer: Integrating Civity Exercises Into Your Practice
DESCRIPTION:Train-the-Trainer | Friday\, September 25th 9:00 AM–1:00 PM PT | 11:00 AM–3:00 PM CT | NOON–4:00 PM ET This special 4-hour workshop is designed for trainers and facilitators who want to incorporate Civity exercises or the full Civity workshop into their own offerings. Participants experience the full 3-hour Building Social Trust Across Difference workshop PLUS they … Continue reading "Train-the-Trainer: Integrating Civity Exercises Into Your Practice"
URL:https://www.civity.org/event/train-the-trainer-integrating-civity-exercises-into-your-practice/
LOCATION:Zoom\, United States
CATEGORIES:Training
ATTACH;FMTTYPE=image/jpeg:https://www.civity.org/wp-content/uploads/2025/09/Civity_FistBump_New_Long.jpg
ORGANIZER;CN="Civity":MAILTO:info@civity.org
END:VEVENT
BEGIN:VEVENT
DTSTART;TZID=America/Los_Angeles:20251115T090000
DTEND;TZID=America/Los_Angeles:20251115T103000
DTSTAMP:20260423T112547
CREATED:20250923T180649Z
LAST-MODIFIED:20251122T002008Z
UID:4799-1763197200-1763202600@www.civity.org
SUMMARY:Level One: Introduction to Civity – Building Relationships
DESCRIPTION:Train-the-Trainer | Friday\, September 25th 9:00 AM–1:00 PM PT | 11:00 AM–3:00 PM CT | NOON–4:00 PM ET This special 4-hour workshop is designed for trainers and facilitators who want to incorporate Civity exercises or the full Civity workshop into their own offerings. Participants experience the full 3-hour Building Social Trust Across Difference workshop PLUS they … Continue reading "Train-the-Trainer: Integrating Civity Exercises Into Your Practice"
URL:https://www.civity.org/event/level-one-introduction-to-civity-building-relationships/
LOCATION:Zoom\, United States
CATEGORIES:Training
ATTACH;FMTTYPE=image/jpeg:https://www.civity.org/wp-content/uploads/2025/09/Civity_ShoesinCircle_Long.jpg
ORGANIZER;CN="Civity":MAILTO:info@civity.org
END:VEVENT
END:VCALENDAR