BEGIN:VCALENDAR
VERSION:2.0
PRODID:-//Civity - ECPv6.15.20//NONSGML v1.0//EN
CALSCALE:GREGORIAN
METHOD:PUBLISH
X-WR-CALNAME:Civity
X-ORIGINAL-URL:https://www.civity.org
X-WR-CALDESC:Events for Civity
REFRESH-INTERVAL;VALUE=DURATION:PT1H
X-Robots-Tag:noindex
X-PUBLISHED-TTL:PT1H
BEGIN:VTIMEZONE
TZID:America/Los_Angeles
BEGIN:DAYLIGHT
TZOFFSETFROM:-0800
TZOFFSETTO:-0700
TZNAME:PDT
DTSTART:20250309T100000
END:DAYLIGHT
BEGIN:STANDARD
TZOFFSETFROM:-0700
TZOFFSETTO:-0800
TZNAME:PST
DTSTART:20251102T090000
END:STANDARD
BEGIN:DAYLIGHT
TZOFFSETFROM:-0800
TZOFFSETTO:-0700
TZNAME:PDT
DTSTART:20260308T100000
END:DAYLIGHT
BEGIN:STANDARD
TZOFFSETFROM:-0700
TZOFFSETTO:-0800
TZNAME:PST
DTSTART:20261101T090000
END:STANDARD
BEGIN:DAYLIGHT
TZOFFSETFROM:-0800
TZOFFSETTO:-0700
TZNAME:PDT
DTSTART:20270314T100000
END:DAYLIGHT
BEGIN:STANDARD
TZOFFSETFROM:-0700
TZOFFSETTO:-0800
TZNAME:PST
DTSTART:20271107T090000
END:STANDARD
BEGIN:DAYLIGHT
TZOFFSETFROM:-0800
TZOFFSETTO:-0700
TZNAME:PDT
DTSTART:20280312T100000
END:DAYLIGHT
BEGIN:STANDARD
TZOFFSETFROM:-0700
TZOFFSETTO:-0800
TZNAME:PST
DTSTART:20281105T090000
END:STANDARD
END:VTIMEZONE
BEGIN:VEVENT
DTSTART;TZID=America/Los_Angeles:20260424T090000
DTEND;TZID=America/Los_Angeles:20260424T100000
DTSTAMP:20260423T064106
CREATED:20260325T002747Z
LAST-MODIFIED:20260408T141311Z
UID:5783-1777021200-1777024800@www.civity.org
SUMMARY:Civity Champions’ Community of Practice
DESCRIPTION:Tune into this new quarterly opportunity to hear from some Civity Champions and to interact with other people in our community of practice. Join when you can to be inspired … Continue reading "Civity Champions’ Community of Practice"
URL:https://www.civity.org/event/civity-champions-community-of-practice/
LOCATION:Zoom\, United States
CATEGORIES:Event
ATTACH;FMTTYPE=image/jpeg:https://www.civity.org/wp-content/uploads/2023/06/CIVITY_iStock-1152767884-copy-e1774399762153.jpg
ORGANIZER;CN="Civity":MAILTO:info@civity.org
END:VEVENT
BEGIN:VEVENT
DTSTART;TZID=America/Los_Angeles:20260723T160000
DTEND;TZID=America/Los_Angeles:20260723T170000
DTSTAMP:20260423T064106
CREATED:20260325T003000Z
LAST-MODIFIED:20260325T004734Z
UID:5796-1784822400-1784826000@www.civity.org
SUMMARY:Civity Champions’ Community of Practice
DESCRIPTION:Tune into this new quarterly opportunity to hear from some Civity Champions and to interact with other people in our community of practice. Join when you can to be inspired … Continue reading "Civity Champions’ Community of Practice"
URL:https://www.civity.org/event/civity-champions-community-of-practice-2/
LOCATION:Zoom\, United States
CATEGORIES:Event
ATTACH;FMTTYPE=image/jpeg:https://www.civity.org/wp-content/uploads/2022/12/cover_61ae19775c02de71fad38780dc2edb2e-e1774399649558.jpg
ORGANIZER;CN="Civity":MAILTO:info@civity.org
END:VEVENT
BEGIN:VEVENT
DTSTART;TZID=America/Los_Angeles:20260911T090000
DTEND;TZID=America/Los_Angeles:20260911T103000
DTSTAMP:20260423T064106
CREATED:20260325T000913Z
LAST-MODIFIED:20260325T000913Z
UID:5784-1789117200-1789122600@www.civity.org
SUMMARY:Level One: Introduction to Civity – Building Relationships
DESCRIPTION:Tune into this new quarterly opportunity to hear from some Civity Champions and to interact with other people in our community of practice. Join when you can to be inspired … Continue reading "Civity Champions’ Community of Practice"
URL:https://www.civity.org/event/level-one-introduction-to-civity-building-relationships-2/
LOCATION:Zoom\, United States
CATEGORIES:Training
ATTACH;FMTTYPE=image/jpeg:https://www.civity.org/wp-content/uploads/2025/09/Civity_ShoesinCircle_Long.jpg
ORGANIZER;CN="Civity":MAILTO:info@civity.org
END:VEVENT
BEGIN:VEVENT
DTSTART;TZID=America/Los_Angeles:20260918T090000
DTEND;TZID=America/Los_Angeles:20260918T120000
DTSTAMP:20260423T064106
CREATED:20260325T001232Z
LAST-MODIFIED:20260325T001232Z
UID:5787-1789722000-1789732800@www.civity.org
SUMMARY:Levels One and Two: Building Social Trust Across Difference
DESCRIPTION:Tune into this new quarterly opportunity to hear from some Civity Champions and to interact with other people in our community of practice. Join when you can to be inspired … Continue reading "Civity Champions’ Community of Practice"
URL:https://www.civity.org/event/levels-one-and-two-building-social-trust-across-difference-2/
LOCATION:Zoom\, United States
CATEGORIES:Training
ATTACH;FMTTYPE=image/jpeg:https://www.civity.org/wp-content/uploads/2025/09/Civity_HandsInCircle_Long.jpg
ORGANIZER;CN="Civity":MAILTO:info@civity.org
END:VEVENT
BEGIN:VEVENT
DTSTART;TZID=America/Los_Angeles:20260925T090000
DTEND;TZID=America/Los_Angeles:20260925T130000
DTSTAMP:20260423T064106
CREATED:20260325T001835Z
LAST-MODIFIED:20260325T001835Z
UID:5791-1790326800-1790341200@www.civity.org
SUMMARY:Train-the-Trainer: Integrating Civity Exercises Into Your Practice
DESCRIPTION:Tune into this new quarterly opportunity to hear from some Civity Champions and to interact with other people in our community of practice. Join when you can to be inspired … Continue reading "Civity Champions’ Community of Practice"
URL:https://www.civity.org/event/train-the-trainer-integrating-civity-exercises-into-your-practice-2/
LOCATION:Zoom\, United States
CATEGORIES:Training
ATTACH;FMTTYPE=image/jpeg:https://www.civity.org/wp-content/uploads/2025/09/Civity_FistBump_New_Long.jpg
ORGANIZER;CN="Civity":MAILTO:info@civity.org
END:VEVENT
BEGIN:VEVENT
DTSTART;TZID=America/Los_Angeles:20261017T100000
DTEND;TZID=America/Los_Angeles:20261017T110000
DTSTAMP:20260423T064106
CREATED:20260325T003235Z
LAST-MODIFIED:20260325T004547Z
UID:5799-1792231200-1792234800@www.civity.org
SUMMARY:Civity Champions’ Community of Practice
DESCRIPTION:Tune into this new quarterly opportunity to hear from some Civity Champions and to interact with other people in our community of practice. Join when you can to be inspired …  \nContinue reading "Civity Champions’ Community of Practice"
URL:https://www.civity.org/event/civity-champions-community-of-practice-3/
LOCATION:Zoom\, United States
CATEGORIES:Event
ATTACH;FMTTYPE=image/jpeg:https://www.civity.org/wp-content/uploads/2025/06/Civity_GroupTalking_istock-e1774399542990.jpg
ORGANIZER;CN="Civity":MAILTO:info@civity.org
END:VEVENT
BEGIN:VEVENT
DTSTART;TZID=America/Los_Angeles:20270119T080000
DTEND;TZID=America/Los_Angeles:20270119T090000
DTSTAMP:20260423T064106
CREATED:20260325T003454Z
LAST-MODIFIED:20260325T004429Z
UID:5802-1800345600-1800349200@www.civity.org
SUMMARY:Civity Champions’ Community of Practice
DESCRIPTION:Tune into this new quarterly opportunity to hear from some Civity Champions and to interact with other people in our community of practice. Join when you can to be inspired …  \nContinue reading "Civity Champions’ Community of Practice"
URL:https://www.civity.org/event/civity-champions-community-of-practice-4/
LOCATION:Zoom\, United States
CATEGORIES:Event
ATTACH;FMTTYPE=image/png:https://www.civity.org/wp-content/uploads/2021/03/AdobeStock_254946277_1600x1067px-e1774399454170.png
ORGANIZER;CN="Civity":MAILTO:info@civity.org
END:VEVENT
END:VCALENDAR